BEGIN:VCALENDAR
VERSION:2.0
PRODID:-//Eventin//Event Calendar//EN
CALSCALE:GREGORIAN
METHOD:PUBLISH
BEGIN:VEVENT
UID:113df5f2dc3f83ec7cca562a8fd105d0@latineventsbc.ca
SUMMARY:LAHM Seniors Day\, Honoring our roots
DESCRIPTION:Recognizing the greatness of our ancestors is important\, which
  is why our community of Latino Seniors will be celebrating the day of the 
 elderly in Canada\, remembering and honoring our roots.
LOCATION:Online
DTSTAMP:20260421T084441Z
DTSTART:20231012T210000Z
DTEND:20260422T055900Z
END:VEVENT
END:VCALENDAR
