BEGIN:VCALENDAR
VERSION:2.0
PRODID:-//Eventin//Event Calendar//EN
CALSCALE:GREGORIAN
METHOD:PUBLISH
BEGIN:VEVENT
UID:3f2353c3beb97906c4ce1c5e9ed017d3@latineventsbc.ca
SUMMARY:IÑIGO VONTIER
DESCRIPTION:CALYPSO CVLT X LULLABY\n\n\n\n\nThis Friday\, May 15\, we open 
 a new chapter on the dancefloor.\nLullaby teams up with Calypso Cvlt to wel
 come one of Mexico’s most respected underground figures\, Iñigo Vontier 
 a night focused on intention\, movement\, and forward-thinking sound.\nAs t
 he founder of Calypso Cult\, Vontier has become a key voice in the new wave
  of Latin electronic music. With deep roots in legendary spaces like Bar Am
 éricas and appearances at Yu Yu\, his approach goes beyond DJing it’s ab
 out shaping the full experience of the dancefloor.\nOn the production side\
 , his sound has landed on labels like Multi Culti and Crosstown Rebels\, he
 lping define the direction of Latin underground music. Sharing lineups with
  names like Nicola Cruz and Red Axes\, he’s helped position Calypso Cult 
 as a true cultural force in Mexico.\nNow\, that energy lands in Vancouver a
 nd it won’t come around often.\nExpect a proper journey: slow-burning bui
 lds\, heavy moments\, and a dancefloor locked in from start to finish. This
  is where Mexico City’s underground pulse meets Vancouver’s evolving sc
 ene.\nEarly bird tickets are very limited and moving fast. Once they’re g
 one\, they’re gone and this is not the kind of night you hear about the n
 ext day and feel okay missing.\nSecure your spot.\n\nLink to event: https:/
 /www.eventbrite.ca/e/inigo-vontier-tickets-1987358887932?aff=ebdssbdestsear
 ch\nDisclaimer: LatinEventsBC is not affiliated with or responsible for th
 e event listed. Please verify details with the event organizers.
LOCATION:520 Alexander Street  Vancouver\, BC V6A 1C7
DTSTAMP:20260423T085653Z
DTSTART:20260516T065500Z
DTEND:20260516T110000Z
END:VEVENT
END:VCALENDAR
