BEGIN:VCALENDAR
VERSION:2.0
PRODID:-//Eventin//Event Calendar//EN
CALSCALE:GREGORIAN
METHOD:PUBLISH
BEGIN:VEVENT
UID:b84515f60b8b3a2fdc1042d159c16127@latineventsbc.ca
SUMMARY:Ay Mami Latin night & Drag Show at Numbers
DESCRIPTION:Overview\n \n\n\n\nDon't miss this newly curated Latin Night a
 t Numbers Cabaret! It's gonna be spicy\, caliente\, sabrosa and deliciosa!\
 n\n\n\n\nCome and celebrate with your Latinas at Numbers Cabaret! We will h
 ave spicy drag performances & audience participation activities: Piñata an
 d Sing Along to latin classic songs! Those that your mami and abuelita made
  you listened to!\n\nDoors at 8:30pm\nShow at 9:00pm\nDrag performances (mu
 ltiple numbers throughout the night)\nGroup karaoke/Sing along short segmen
 ts featuring Latin classic songs\nInteractive “pin-the-tail”-style acti
 vity adapted for the event\nPhoto station coordinated by Andres Olvera\nPi
 ñata moment for guests celebrating birthdays or special celebrations.\n\nL
 ink to event: https://www.eventbrite.ca/e/ay-mami-latin-night-drag-show-at-
 numbers-tickets-1987565640334?aff=ebdssbdestsearch#location\nDisclaimer: L
 atinEventsBC is not affiliated with or responsible for the event listed. Pl
 ease verify details with the event organizers.
LOCATION:Numbers Cabaret 1042 Davie Street  Vancouver\, BC V6E 1M3
DTSTAMP:20260422T161232Z
DTSTART:20260518T040000Z
DTEND:20260518T065500Z
END:VEVENT
END:VCALENDAR
