BEGIN:VCALENDAR
VERSION:2.0
PRODID:-//Eventin//Event Calendar//EN
CALSCALE:GREGORIAN
METHOD:PUBLISH
BEGIN:VEVENT
UID:54f690dd4ba9889d128a4e35adab9641@latineventsbc.ca
SUMMARY:Despecho Night Vancouver
DESCRIPTION:Special Mother’s Day Edition: a night of Despecho with a spec
 ial touch\, where every song tells a story.\n\n\n\n\n🎤 Sing\, heal\, and
  live it with your heart.\nEl Club del Despecho takes over Granville St.\nA
 n intense night filled with live music\, real emotions\, and that special e
 nergy that happens only when everyone sings together.\nLive Performances:\n
 🎙️ The voices of Despecho that make every corner of the pub vibrate.\n
 🎧 DJ TwoMonkey — setting the mood before and after the live show with 
 those iconic anthems we all end up singing and dancing to with our hearts w
 ide open.\n💔 A night for brave hearts\nIf you’ve ever toasted to love\
 , cried to a song\, or laughed between drinks and friends — this night is
  for you.\nAt Despecho Night\, every song is a story\, every verse a releas
 e\, and every chorus a shared therapy to sing\, heal\, and celebrate togeth
 er.\n🗓️Fridat\, May 8th • 8:00 PM\n📍Venue: Good Co. – Granville
  St\, Vancouver\nGrab your tickets and book your table. Send us a DM on Ins
 tagram @despecho.van\n🔞 19+ event\n\nLink to event: https://www.eventbri
 te.ca/e/despecho-night-vancouver-friday-may-8th-tickets-1987795157827?aff=e
 bdssbdestsearch#location\nDisclaimer: LatinEventsBC is not affiliated with
  or responsible for the event listed. Please verify details with the event 
 organizers.
LOCATION:Good Co. Granville 965 Granville Street  Vancouver\, BC V6Z 1L3
DTSTAMP:20260422T160244Z
DTSTART:20260509T030000Z
DTEND:20260510T050000Z
END:VEVENT
END:VCALENDAR
