BEGIN:VCALENDAR
VERSION:2.0
PRODID:-//Eventin//Event Calendar//EN
CALSCALE:GREGORIAN
METHOD:PUBLISH
BEGIN:VEVENT
UID:fc9fa8fa4500097eae91acf1162d950b@latineventsbc.ca
SUMMARY:Drag show “Ay Mami” at Numbers
DESCRIPTION:Latin celebrations at Numbers with Drag performances & audience
  participation activities.\n\n\n\n\n\nDoors at 8:30pm\nShow at 9:00pm\nDrag
  performances (multiple numbers throughout the night)\nGroup karaoke/Sing a
 long short segments featuring Latin classic songs\nInteractive “pin-the-t
 ail”-style activity adapted for the event\nPhoto station coordinated by A
 ndres Olvera\nPiñata moment for guests celebrating birthdays or special ce
 lebrations.\n\nLink to event: https://www.eventbrite.ca/e/drag-show-ay-mami
 -at-numbers-tickets-1987566114753?aff=ebdssbdestsearch\n\nDisclaimer: Lati
 nEventsBC is not affiliated with or responsible for the event listed. Pleas
 e verify details with the event organizers.
LOCATION:Numbers Cabaret 1042 Davie Street  Vancouver\, BC V6E 1M3
DTSTAMP:20260422T161232Z
DTSTART:20260727T040000Z
DTEND:20260727T065500Z
END:VEVENT
END:VCALENDAR
