BEGIN:VCALENDAR
VERSION:2.0
PRODID:-//Eventin//Event Calendar//EN
CALSCALE:GREGORIAN
METHOD:PUBLISH
BEGIN:VEVENT
UID:1bab97bb63f487a8d4f70d0fcee34a6a@latineventsbc.ca
SUMMARY:Pablo Cardenas presents “Viva Latinoamérica”
DESCRIPTION:Latin American music is considered by many to be the most beaut
 iful music\, romantic\, spiritual\, energetic\, and full of passion. Its cu
 ltural richness is endless. World-class Cuban pianist Pablo Cardenas and Th
 e West Coast Cuban Orchestra are presenting a show full of a wide variety o
 f Latin rhythms\, including son\, salsa\, bachata\, cumbia\, merengue\, cha
  cha\, plena\, festejo\, rumba\, conga\, and more.They want to show you a l
 ot of what Latin music can offer by getting you on a journey through the mu
 sic of different countries like Cuba\, Colombia\, Argentina\, Brazil\, Mexi
 co\, Venezuela\, Peru\, Dominican Republic\, Puerto Rico\, and more. Pablo 
 will be joined once again by “The West Coast Cuban Orchestra”\, an all-
 star lineup of musicians from all over the world and guest vocalists. This 
 will be an event not to miss with a representation of the best Latin Americ
 an music.Pablo Cardenas is a Cuban Jazz pianist\, composer\, music educator
 \, and arranger with different influences like Afro-Cuban\, Latin jazz\, ja
 zz fusion\, modern jazz\, classical\, and more. He studied classical perfor
 mance at the Superior Institute of Arts in Havana\, Cuba. Since the 2000s\,
  he has been performing in music festivals in Havana and internationally. H
 e has been residing in Canada since 2011\, where he created different music
  projects as The West Coast Cuban Orchestra\, highly contributing to the de
 velopment of the Afro-Cuban music and jazz scene in the area\, performing a
 t the most important venues and festivals around\, and collaborating with m
 any accomplished musicians like Canadian treasures Dee Daniels and Denzal S
 inclair. Pablo has also been collaborating with the Victoria Symphony Orche
 stra in recent years.\nLink to event: https://livevictoria.com/show/911218/
 view?source=ecat\n \nDisclaimer: LatinEventsBC is not affiliated with or 
 responsible for the event listed. Please verify details with the event orga
 nizers.
LOCATION:Hermann's Jazz Club 753 View St\, Victoria\, BC V8W 1J9
DTSTAMP:20260422T143749Z
DTSTART:20260426T020000Z
DTEND:20260426T040000Z
END:VEVENT
END:VCALENDAR
