BEGIN:VCALENDAR
VERSION:2.0
PRODID:-//Eventin//Event Calendar//EN
CALSCALE:GREGORIAN
METHOD:PUBLISH
BEGIN:VEVENT
UID:142210dca74f9a4f64275f33eb3c3c9e@latineventsbc.ca
SUMMARY:Tribuna Latina Vancouver 2026 – Live Match Screenings
DESCRIPTION:Watch the games surrounded by Latin vibes\, great energy\, drin
 ks\, and snacks and feel the stadium atmosphere right here in Vancouver!\n\
 n\n\n\nTribuna Latina Vancouver 2026 is a watch party series where people c
 ome together to enjoy live soccer matches in a social\, Latin-inspired envi
 ronment. The event offers a shared space to watch the games on screen\, con
 nect with others\, and enjoy drinks and snacks while supporting your team. 
 It’s designed for anyone who wants to experience the matches in a more li
 vely and community-focused setting rather than watching alone.\n\n\n\n\nWha
 t to Expect\nA lively\, welcoming space to watch the game surrounded by com
 munity and energy. This is not just a screening\, it’s a shared experienc
 e.\n\nLive match screening with great atmosphere\nA crowd full of passion\,
  cheering\, and team spirit\nTraditional drinks and snacks available\nMusic
 \, Latin vibes\, and a social environment\nA relaxed setting where you can 
 connect with others and enjoy the game together\n\n\n\n\n\nWho Should Atten
 d\nThis event is for anyone who wants to enjoy the game in a more vibrant a
 nd social way.\n\nLatin community members who want to feel close to home\nF
 ootball fans who enjoy watching games with others\nFriends and groups looki
 ng for a fun\, affordable outing\nNewcomers in Vancouver looking to connect
  and meet people\nAnyone who enjoys culture\, energy\, and a good game atmo
 sphere\n\n\n\n\n\nProgram Overview\nJoin us throughout June for a series of
  live match screenings as part of Tribuna Latina Vancouver 2026. Each even
 t features a different game\, bringing the community together to watch\, co
 nnect\, and enjoy the experience.\n\nMatch Schedule\nThursday\, June 11Méx
 ico vs South Africa — 12:00 PM\nFriday\, June 12USA vs Paraguay — 6:00 
 PM\nWednesday\, June 17Colombia vs Uzbekistan — 6:00 PM\nThursday\, June 
 18México vs South Korea — 6:00 PM\nFriday\, June 19Brazil vs Haití — 
 8:00 PM\nSaturday\, June 20Ecuador vs Curaçao — 5:00 PM\nWednesday\, Jun
 e 24México vs Playoff — 6:00 PM\nSaturday\, June 27Colombia vs Portugal 
 — 6:30 PM\n\n\n\n\nTickets\n🎟️ General Admission - $5 CADYour ticke
 t includes:\n\nEntry to the event\nLive match screening\n1 beer\n\n\n\n\n\n
 VENUE\nLocated in the heart of Gastown\, Latincouver’s space is a central
  and easy place to meet and watch the games together.\nThe venue is set up 
 for live screenings\, with space to sit\, stand\, and enjoy the match comfo
 rtably. It’s a casual environment where you can come with friends or meet
  others while watching the game.\nGet your tickets here: https://www.eventb
 rite.ca/e/tribuna-latina-vancouver-2026-live-match-screenings-tickets-19879
 40829535?aff=ebdssbdestsearch
LOCATION:Latincouver 68 Water St Unit 301\, Vancouver\, BC V6B 1A4
DTSTAMP:20260422T160713Z
DTSTART:20260611T190000Z
DTEND:20260628T033000Z
END:VEVENT
END:VCALENDAR
