BEGIN:VCALENDAR
VERSION:2.0
PRODID:-//Eventin//Event Calendar//EN
CALSCALE:GREGORIAN
METHOD:PUBLISH
BEGIN:VEVENT
UID:adc0c59962a37346938c15a410df982c@latineventsbc.ca
SUMMARY:NOCHES LUCIDAS: VANCOUVER BC
DESCRIPTION:Underground House & Techno with deep Latin soul in the heart of
  Gastown. Deep grooves\, hypnotic melodies\, pure dance culture.\n\n\n\n\nN
 OCHES LÚCIDAS · VANCOUVER BC\nFrom warm sunrises and magical sunsets in M
 exico\, to filling rooms in Seattle\, the movement crosses the border. For 
 the first time\, Noches Lúcidas lands on Canadian soil.\nA full night of u
 nderground House & Techno with that deep Latin soul\, right in the heart of
  Gastown. Deep grooves\, hypnotic melodies\, and pure dance culture.\nBorn 
 in 2018 on the beaches of Mexico's Pacific Coast. Underground sounds rooted
  in London and Berlin. Melodies shaped by Tulum and the Yucatan. A communit
 y stretching from the shores of Playa Troncones to the cities of the Pacifi
 c Northwest — and now\, Vancouver.\n100+ events. Three countries. One mov
 ement.\n──────────────────\nFriday\, Ma
 y 15th\, 2026Monarca Restaurant & Supper Club | 1 Water St.\, Gastown\, Van
 couver\, BCMusic: 10:00 PM → 2:00 AMCover: $25 CAD\n───────
 ───────────\nTHE LINEUP\nSantamaria · Bgeezy · Foua
 d Masoud (Seattle)Local Support TBD\nFounders go B2B2B for extended sets 
 — preparense para una noche epica.\n────────────
 ──────\nPresented by: Utopia Vancouver · Latin Vibes Canada ·
  Monarca Vancouver\n\nLink to event: https://www.eventbrite.com/e/noches-lu
 cidas-vancouver-bc-tickets-1987878881246?aff=ebdssbdestsearch#location\n\nD
 isclaimer: LatinEventsBC is not affiliated with or responsible for the eve
 nt listed. Please verify details with the event organizers.
LOCATION:Monarca 181 Carrall Street  Vancouver\, BC V6B 0R5
DTSTAMP:20260422T161134Z
DTSTART:20260516T050000Z
DTEND:20260516T090000Z
END:VEVENT
END:VCALENDAR
