BEGIN:VCALENDAR
VERSION:2.0
PRODID:-//Eventin//Event Calendar//EN
CALSCALE:GREGORIAN
METHOD:PUBLISH
BEGIN:VEVENT
UID:6f7471d81d34896a3b79929ff77d73f0@latineventsbc.ca
SUMMARY:Mojitos pub Cumbia Party
DESCRIPTION:CUMBIA PARTY en Mojitos Pub\nEste 24 de abril preparate para un
 a noche llena de ritmo\, baile y pura vibra latina\nEn vivo: Son de calle\n
 DJ Casanova poniendo el ambiente\nLadies FREE antes de las 10PM\nCover: $15
 \nFREE Parking\n12411 King George Blvd\, Surrey\nDesde las 9PM\n\nLink to e
 vent: https://www.mojitospub.com/\nDisclaimer: LatinEventsBC is not affili
 ated with or responsible for the event listed. Please verify details with t
 he event organizers.
LOCATION:Mojito Pub 12411 King George Blvd\, Surrey\, BC V3V 3K3
DTSTAMP:20260422T232710Z
DTSTART:20260425T040000Z
DTEND:20260425T060000Z
END:VEVENT
END:VCALENDAR
