BEGIN:VCALENDAR
VERSION:2.0
PRODID:-//Eventin//Event Calendar//EN
CALSCALE:GREGORIAN
METHOD:PUBLISH
BEGIN:VEVENT
UID:a24d0fd1d32b0533e21820fa573db529@latineventsbc.ca
SUMMARY:Dulce’s Drag Fiesta!
DESCRIPTION:Celebrate Cinco de Mayo with this ALL LATINX DRAG BRUNCH at Sco
 re on Davie!\n\n\n\n\nDulce’s Drag Fiesta!\nJoin us at Score on Davie for
  a Cinco de Mayo celebration like no other!Hosted by Canada's Drag Race Se
 ason 6 star DULCE and featuring an ALL LATINX cast of local performers i
 ncluding MICHELANGELA & CATALEYA\, this is a drag brunch you will NOT wan
 t to miss!Saturday\, May 2nd - Doors open at 11a / Show starts at 12p!\nPLE
 ASE NOTE: A ticket is required for entry but does NOT include food. We will
  be implementing a community seating system\, you may be seated with other 
 ticket holders. To be seated with your party\, please email itsvajayjay@gma
 il.com with the booking confirmations of your party.\n\n\n \nLink to event
 : https://www.eventbrite.ca/e/dulces-drag-fiesta-tickets-1984830400157?aff=
 erelexpmlt\n \nDisclaimer: LatinEventsBC is not affiliated with or respon
 sible for the event listed. Please verify details with the event organizers
 .
LOCATION:Score on Davie 1262 Davie Street  Vancouver\, BC V6E 1N3
DTSTAMP:20260423T115208Z
DTSTART:20260502T190000Z
DTEND:20260502T220000Z
END:VEVENT
END:VCALENDAR
